BEGIN:VCALENDAR
VERSION:2.0
PRODID:-//78.153.215.244//NONSGML kigkonsult.se iCalcreator 2.20//
CALSCALE:GREGORIAN
METHOD:PUBLISH
X-WR-CALNAME:Laois Partnership
X-WR-CALDESC:Serving Communities Across Laois
X-FROM-URL:http://laoispartnership.ie
X-WR-TIMEZONE:Europe/Dublin
BEGIN:VTIMEZONE
TZID:Europe/Dublin
X-LIC-LOCATION:Europe/Dublin
BEGIN:STANDARD
DTSTART:20171029T020000
TZOFFSETFROM:+0100
TZOFFSETTO:+0000
TZNAME:GMT
END:STANDARD
BEGIN:DAYLIGHT
DTSTART:20180325T010000
TZOFFSETFROM:+0000
TZOFFSETTO:+0100
TZNAME:IST
END:DAYLIGHT
END:VTIMEZONE
BEGIN:VEVENT
UID:ai1ec-4831@laoispartnership.ie
DTSTAMP:20171031T043344Z
CATEGORIES;LANGUAGE=en-US:Walks
CONTACT:Laois Partnership Company\; 057 8661900\; info@laoispartnership.ie\
 ; http://laoispartnership.ie/laois-walks-festival/
DESCRIPTION:<p>This is a Grade C walk and is 10 km long.</p>\n<p> </p>
DTSTART;TZID=Europe/Dublin:20160720T193000
DTEND;TZID=Europe/Dublin:20160720T220000
GEO:+52.947207;-7.126793
LOCATION:Luggacurren Community Hall @ Luggacurren\, Co. Laois\, Ireland
SEQUENCE:0
SUMMARY:Laois Walking Festival:  Luggacurren
URL:http://laoispartnership.ie/event/laois-walks-festival-luggacurren/
X-COST:€2 per Walk (or €20 Festival Ticket for full programme of 22 Walks)
END:VEVENT
END:VCALENDAR
