BEGIN:VCALENDAR
VERSION:2.0
PRODID:-//78.153.215.244//NONSGML kigkonsult.se iCalcreator 2.20//
CALSCALE:GREGORIAN
METHOD:PUBLISH
X-WR-CALNAME:Laois Partnership
X-WR-CALDESC:Serving Communities Across Laois
X-FROM-URL:http://laoispartnership.ie
X-WR-TIMEZONE:Europe/Dublin
BEGIN:VTIMEZONE
TZID:Europe/Dublin
X-LIC-LOCATION:Europe/Dublin
BEGIN:STANDARD
DTSTART:20171029T020000
TZOFFSETFROM:+0100
TZOFFSETTO:+0000
TZNAME:GMT
END:STANDARD
BEGIN:DAYLIGHT
DTSTART:20180325T010000
TZOFFSETFROM:+0000
TZOFFSETTO:+0100
TZNAME:IST
END:DAYLIGHT
END:VTIMEZONE
BEGIN:VEVENT
UID:ai1ec-4835@laoispartnership.ie
DTSTAMP:20171031T044023Z
CATEGORIES;LANGUAGE=en-US:Walks
CONTACT:Laois Partnership Company\; 057 8661900\; info@laoispartnership.ie\
 ; http://laoispartnership.ie/laois-walks-festival/
DESCRIPTION:This walk is Grade B and is 8 km long.
DTSTART;TZID=Europe/Dublin:20160726T191500
DTEND;TZID=Europe/Dublin:20160726T211500
GEO:+52.949886;-7.303735
LOCATION:Ballyroan Community Hall @ Ballyroan\, Laois
SEQUENCE:0
SUMMARY:Laois Walking Festival:  Cullenagh\, Ballyroan
URL:http://laoispartnership.ie/event/laois-walking-festival-cullenagh-bally
 roan/
X-ALT-DESC;FMTTYPE=text/html:<!DOCTYPE HTML PUBLIC '-//W3C//DTD HTML 3.2//E
 N'>\\n<HTML>\\n<HEAD>\\n<TITLE></TITLE>\\n</HEAD>\\n<BODY><p>This walk is 
 Grade B and is 8 km long.</p>\n</BODY></HTML>
X-COST:€2 per Walk (or €20 Festival Ticket for full programme of 22 Walks)
END:VEVENT
END:VCALENDAR
