BEGIN:VCALENDAR
VERSION:2.0
PRODID:-//78.153.215.244//NONSGML kigkonsult.se iCalcreator 2.20//
CALSCALE:GREGORIAN
METHOD:PUBLISH
X-WR-CALNAME:Laois Partnership
X-WR-CALDESC:Serving Communities Across Laois
X-FROM-URL:http://laoispartnership.ie
X-WR-TIMEZONE:Europe/Dublin
BEGIN:VTIMEZONE
TZID:Europe/Dublin
X-LIC-LOCATION:Europe/Dublin
BEGIN:STANDARD
DTSTART:20171029T020000
TZOFFSETFROM:+0100
TZOFFSETTO:+0000
TZNAME:GMT
END:STANDARD
BEGIN:DAYLIGHT
DTSTART:20180325T010000
TZOFFSETFROM:+0000
TZOFFSETTO:+0100
TZNAME:IST
END:DAYLIGHT
END:VTIMEZONE
BEGIN:VEVENT
UID:ai1ec-4926@laoispartnership.ie
DTSTAMP:20171031T084725Z
CATEGORIES:
CONTACT:Portlaoise Enterprise Centre\; 057 8661800\; localenterprise@laoisc
 oco.ie\; https://www.localenterprise.ie/Laois/
DESCRIPTION:This (10 Half Day) course will cover all aspects of starting a 
 business including business planning\, legal issues\, market research\, sa
 les & financial management. It is suitable for anybody considering the ide
 a of starting a business.\n Course Outline: • Self – Assessment\, Planning
  and Skills Identification • Preparing a Business Plan • Marketing for the
  Small Business • Researching the Market • Sources of Finance\, Costing\, 
 Pricing\, Cashflow • Sales\, Marketing\, Presentation skills and Networkin
 g\nTickets: https://www.localenterprise.ie/Laois/.
DTSTART;TZID=Europe/Dublin:20151007T093000
LOCATION:Portarlington
SEQUENCE:0
SUMMARY:START YOUR OWN BUSINESS COURSE (PORTARLINGTON)
URL:http://laoispartnership.ie/event/start-your-own-business-course-portarl
 ington/
X-ALT-DESC;FMTTYPE=text/html:<!DOCTYPE HTML PUBLIC '-//W3C//DTD HTML 3.2//E
 N'>\\n<HTML>\\n<HEAD>\\n<TITLE></TITLE>\\n</HEAD>\\n<BODY><p>This (10 Half
  Day) course will cover all aspects of starting a business including busin
 ess planning\, legal issues\, market research\, sales & financial manageme
 nt. It is suitable for anybody considering the idea of starting a business
 .</p>\n<p><strong> Course Outline: •</strong> Self – Assessment\, Planning
  and Skills Identification <strong>•</strong> Preparing a Business Plan • 
 Marketing for the Small Business<strong> •</strong> Researching the Market
  <strong>•</strong> Sources of Finance\, Costing\, Pricing\, Cashflow <str
 ong>•</strong> Sales\, Marketing\, Presentation skills and Networking</p>
 \n<p>Tickets: <a class='ai1ec-ticket-url-exported' href='https://www.local
 enterprise.ie/Laois/'>https://www.localenterprise.ie/Laois/</a>.</p></BODY
 ></HTML>
X-COST:€100
X-TICKETS-URL:https://www.localenterprise.ie/Laois/
X-INSTANT-EVENT:1
END:VEVENT
END:VCALENDAR
