BEGIN:VCALENDAR
VERSION:2.0
PRODID:-//78.153.215.244//NONSGML kigkonsult.se iCalcreator 2.20//
CALSCALE:GREGORIAN
METHOD:PUBLISH
X-WR-CALNAME:Laois Partnership
X-WR-CALDESC:Serving Communities Across Laois
X-FROM-URL:http://laoispartnership.ie
X-WR-TIMEZONE:Europe/Dublin
BEGIN:VTIMEZONE
TZID:Europe/Dublin
X-LIC-LOCATION:Europe/Dublin
BEGIN:STANDARD
DTSTART:20171029T020000
TZOFFSETFROM:+0100
TZOFFSETTO:+0000
TZNAME:GMT
END:STANDARD
BEGIN:DAYLIGHT
DTSTART:20180325T010000
TZOFFSETFROM:+0000
TZOFFSETTO:+0100
TZNAME:IST
END:DAYLIGHT
END:VTIMEZONE
BEGIN:VEVENT
UID:ai1ec-4928@laoispartnership.ie
DTSTAMP:20171031T084804Z
CATEGORIES:
CONTACT:Portlaoise Enterprise Centre\; 057 8661800\; localenterprise@laoisc
 oco.ie\; https://www.localenterprise.ie/Laois/
DESCRIPTION:The aim of this one day course is to provide participants with 
 the knowledge to set up a simple working bookkeeping system to maintain pr
 oper records and to be aware of the different business taxes.\nCourse Outl
 ine: • How to prepare daybooks • Bank Reconciliation • Accounting for VAT 
 • Accounting for PAYE / PRSI • Overview of Income Tax / Payroll Taxes • Co
 rporation Tax\nTickets: https://www.localenterprise.ie/Laois/.
DTSTART;TZID=Europe/Dublin:20151027T094500
LOCATION:Portlaoise Enterprise Centre
SEQUENCE:0
SUMMARY:BASIC BOOKKEEPING AND TAXATION
URL:http://laoispartnership.ie/event/basic-bookkeeping-and-taxation/
X-ALT-DESC;FMTTYPE=text/html:<!DOCTYPE HTML PUBLIC '-//W3C//DTD HTML 3.2//E
 N'>\\n<HTML>\\n<HEAD>\\n<TITLE></TITLE>\\n</HEAD>\\n<BODY><p>The aim of th
 is one day course is to provide participants with the knowledge to set up 
 a simple working bookkeeping system to maintain proper records and to be a
 ware of the different business taxes.</p>\n<p><strong>Course Outline: •</s
 trong> How to prepare daybooks <strong>•</strong> Bank Reconciliation<stro
 ng> •</strong> Accounting for VAT<strong> •</strong> Accounting for PAYE /
  PRSI <strong>•</strong> Overview of Income Tax / Payroll Taxes <strong>•<
 /strong> Corporation Tax</p>\n<p>Tickets: <a class='ai1ec-ticket-url-expor
 ted' href='https://www.localenterprise.ie/Laois/'>https://www.localenterpr
 ise.ie/Laois/</a>.</p></BODY></HTML>
X-COST:€40
X-TICKETS-URL:https://www.localenterprise.ie/Laois/
X-INSTANT-EVENT:1
END:VEVENT
END:VCALENDAR
