BEGIN:VCALENDAR
VERSION:2.0
PRODID:-//78.153.215.244//NONSGML kigkonsult.se iCalcreator 2.20//
CALSCALE:GREGORIAN
METHOD:PUBLISH
X-WR-CALNAME:Laois Partnership
X-WR-CALDESC:Serving Communities Across Laois
X-FROM-URL:http://laoispartnership.ie
X-WR-TIMEZONE:Europe/Dublin
BEGIN:VTIMEZONE
TZID:Europe/Dublin
X-LIC-LOCATION:Europe/Dublin
BEGIN:STANDARD
DTSTART:20171029T020000
TZOFFSETFROM:+0100
TZOFFSETTO:+0000
TZNAME:GMT
END:STANDARD
BEGIN:DAYLIGHT
DTSTART:20180325T010000
TZOFFSETFROM:+0000
TZOFFSETTO:+0100
TZNAME:IST
END:DAYLIGHT
END:VTIMEZONE
BEGIN:VEVENT
UID:ai1ec-5131@laoispartnership.ie
DTSTAMP:20171031T044339Z
CATEGORIES:
CONTACT:057 8661800\; localenterprise@laoiscoco.ie
DESCRIPTION:1/2 Day Course.\nSee website for details: https://www.localente
 rprise.ie/Laois/Photos/Local-Enterprise-Office-Autumn-Training-Programme-2
 016.pdf\n 
DTSTART;TZID=Europe/Dublin:20161123T094500
DTEND;TZID=Europe/Dublin:20161123T130000
GEO:+53.032812;-7.298793
LOCATION:Laois LEO @ Portlaoise\, Co. Laois\, Ireland
SEQUENCE:0
SUMMARY:THE BASICS OF SMALL BUSINESS INSURANCE
URL:http://laoispartnership.ie/event/the-basics-of-small-business-insurance
 /
X-ALT-DESC;FMTTYPE=text/html:<!DOCTYPE HTML PUBLIC '-//W3C//DTD HTML 3.2//E
 N'>\\n<HTML>\\n<HEAD>\\n<TITLE></TITLE>\\n</HEAD>\\n<BODY><p>1/2 Day Cours
 e.</p>\n<p>See website for details: <a href='https://www.localenterprise.i
 e/Laois/Photos/Local-Enterprise-Office-Autumn-Training-Programme-2016.pdf'
 >https://www.localenterprise.ie/Laois/Photos/Local-Enterprise-Office-Autum
 n-Training-Programme-2016.pdf</a></p>\n<p> </p>\n</BODY></HTML>
X-COST:€25
END:VEVENT
END:VCALENDAR
