BEGIN:VCALENDAR
VERSION:2.0
PRODID:-//78.153.215.244//NONSGML kigkonsult.se iCalcreator 2.20//
CALSCALE:GREGORIAN
METHOD:PUBLISH
X-WR-CALNAME:Laois Partnership
X-WR-CALDESC:Serving Communities Across Laois
X-FROM-URL:http://laoispartnership.ie
X-WR-TIMEZONE:Europe/Dublin
BEGIN:VTIMEZONE
TZID:Europe/Dublin
X-LIC-LOCATION:Europe/Dublin
BEGIN:STANDARD
DTSTART:20171029T020000
TZOFFSETFROM:+0100
TZOFFSETTO:+0000
TZNAME:GMT
END:STANDARD
BEGIN:DAYLIGHT
DTSTART:20180325T010000
TZOFFSETFROM:+0000
TZOFFSETTO:+0100
TZNAME:IST
END:DAYLIGHT
END:VTIMEZONE
BEGIN:VEVENT
UID:ai1ec-5506@laoispartnership.ie
DTSTAMP:20171031T044647Z
CATEGORIES;LANGUAGE=en-US:Walks
CONTACT:
DESCRIPTION:Oakvale Woods\, Stradbally Explore the forest on the ‘Cobbler ’
 s Walk’\, passing a Mass rock\,lime kilns and the gate of the Cobbler’s Ca
 stle folly. Meet: Oakvale Wood\, Stradbally\, Grid Ref: S585951 2.30pm
DTSTART;TZID=Europe/Dublin:20170701T143000
DTEND;TZID=Europe/Dublin:20170701T170000
LOCATION:Oakvale Wood\, Stradbally @ S585951
SEQUENCE:5543
SUMMARY:Oakvale Woods\, Stradbally – Grade B / 10km Walk
URL:http://laoispartnership.ie/event/oakvale-woods-stradbally-grade-b-10km-
 walk/
X-ALT-DESC;FMTTYPE=text/html:<!DOCTYPE HTML PUBLIC '-//W3C//DTD HTML 3.2//E
 N'>\\n<HTML>\\n<HEAD>\\n<TITLE></TITLE>\\n</HEAD>\\n<BODY><p>Oakvale Woods
 \, Stradbally Explore the forest on the ‘Cobbler ’s Walk’\, passing a Mass
  rock\,lime kilns and the gate of the Cobbler’s Castle folly. Meet: Oakval
 e Wood\, Stradbally\, Grid Ref: S585951 2.30pm</p>\n</BODY></HTML>
X-COST:€2 per walk or €25 Festival Ticket
END:VEVENT
END:VCALENDAR
