BEGIN:VCALENDAR
VERSION:2.0
PRODID:-//78.153.215.244//NONSGML kigkonsult.se iCalcreator 2.20//
CALSCALE:GREGORIAN
METHOD:PUBLISH
X-WR-CALNAME:Laois Partnership
X-WR-CALDESC:Serving Communities Across Laois
X-FROM-URL:http://laoispartnership.ie
X-WR-TIMEZONE:Europe/Dublin
BEGIN:VTIMEZONE
TZID:Europe/Dublin
X-LIC-LOCATION:Europe/Dublin
BEGIN:STANDARD
DTSTART:20171029T020000
TZOFFSETFROM:+0100
TZOFFSETTO:+0000
TZNAME:GMT
END:STANDARD
BEGIN:DAYLIGHT
DTSTART:20180325T010000
TZOFFSETFROM:+0000
TZOFFSETTO:+0100
TZNAME:IST
END:DAYLIGHT
END:VTIMEZONE
BEGIN:VEVENT
UID:ai1ec-5534@laoispartnership.ie
DTSTAMP:20171031T082626Z
CATEGORIES;LANGUAGE=en-US:Walks
CONTACT:Susan Lawlor\; 0872574477
DESCRIPTION:Abbeyleix\, Killamuck Bog Family Walk This Failte Ireland appro
 ved loop features old bog tracks and peaceful wooded lanes. Meet: Carpark 
 of Manor Hotel \, Grid Ref: S435841 7.30pm
DTSTART;TZID=Europe/Dublin:20170706T193000
DTEND;TZID=Europe/Dublin:20170706T213000
LOCATION:Abbeyleix\,  @ Abbeyleix\, Killamuck Bog
SEQUENCE:5542
SUMMARY:Abbeyleix\, Killamuck Bog Family Walk Thursday 6th July @7.30
URL:http://laoispartnership.ie/event/abbeyleix-killamuck-bog-family-walk-th
 ursday-6th-july-7-30/
X-ALT-DESC;FMTTYPE=text/html:<!DOCTYPE HTML PUBLIC '-//W3C//DTD HTML 3.2//E
 N'>\\n<HTML>\\n<HEAD>\\n<TITLE></TITLE>\\n</HEAD>\\n<BODY><p>Abbeyleix\, K
 illamuck Bog Family Walk This Failte Ireland approved loop features old bo
 g tracks and peaceful wooded lanes. Meet: Carpark of Manor Hotel \, Grid R
 ef: S435841 7.30pm</p>\n</BODY></HTML>
X-COST:€2 per person
END:VEVENT
END:VCALENDAR
