BEGIN:VCALENDAR
VERSION:2.0
PRODID:-//78.153.215.244//NONSGML kigkonsult.se iCalcreator 2.20//
CALSCALE:GREGORIAN
METHOD:PUBLISH
X-WR-CALNAME:Laois Partnership
X-WR-CALDESC:Serving Communities Across Laois
X-FROM-URL:http://laoispartnership.ie
X-WR-TIMEZONE:Europe/Dublin
BEGIN:VTIMEZONE
TZID:Europe/Dublin
X-LIC-LOCATION:Europe/Dublin
BEGIN:STANDARD
DTSTART:20171029T020000
TZOFFSETFROM:+0100
TZOFFSETTO:+0000
TZNAME:GMT
END:STANDARD
BEGIN:DAYLIGHT
DTSTART:20180325T010000
TZOFFSETFROM:+0000
TZOFFSETTO:+0100
TZNAME:IST
END:DAYLIGHT
END:VTIMEZONE
BEGIN:VEVENT
UID:ai1ec-5537@laoispartnership.ie
DTSTAMP:20171031T082818Z
CATEGORIES:
CONTACT:Susan Lawlor\; 0872574477
DESCRIPTION:Sat\, 8 July Rock of Dunamase/ Dysart Wood\, Portlaoise Take in
  the wonderful views from the Rock of Dunamase and stroll along the woodla
 nd paths of Dysart Wood. Meet: Dysart Wood carpark\, Grid Ref: S532976 2.3
 0p
DTSTART;TZID=Europe/Dublin:20170708T143000
DTEND;TZID=Europe/Dublin:20170708T173000
GEO:+53.031526;-7.210121
LOCATION:Rock of Dunamase/ Dysart Wood\, Portlaoi @ Dunamaise\, Aghnahily\,
  Co. Laois\, Ireland
SEQUENCE:0
SUMMARY:Sat\, 8 July Rock of Dunamase/ Dysart Wood\, Portlaois Grade B Walk
  3 Hours
URL:http://laoispartnership.ie/event/sat-8-july-rock-of-dunamase-dysart-woo
 d-portlaois-grade-b-walk-3-hours/
X-ALT-DESC;FMTTYPE=text/html:<!DOCTYPE HTML PUBLIC '-//W3C//DTD HTML 3.2//E
 N'>\\n<HTML>\\n<HEAD>\\n<TITLE></TITLE>\\n</HEAD>\\n<BODY><p>Sat\, 8 July 
 Rock of Dunamase/ Dysart Wood\, Portlaoise Take in the wonderful views fro
 m the Rock of Dunamase and stroll along the woodland paths of Dysart Wood.
  Meet: Dysart Wood carpark\, Grid Ref: S532976 2.30p</p>\n</BODY></HTML>
X-COST:€2 per Walk or€ for festival ticket
END:VEVENT
END:VCALENDAR
