BEGIN:VCALENDAR
VERSION:2.0
PRODID:-//78.153.215.244//NONSGML kigkonsult.se iCalcreator 2.20//
CALSCALE:GREGORIAN
METHOD:PUBLISH
X-WR-CALNAME:Laois Partnership
X-WR-CALDESC:Serving Communities Across Laois
X-FROM-URL:http://laoispartnership.ie
X-WR-TIMEZONE:Europe/Dublin
BEGIN:VTIMEZONE
TZID:Europe/Dublin
X-LIC-LOCATION:Europe/Dublin
BEGIN:STANDARD
DTSTART:20171029T020000
TZOFFSETFROM:+0100
TZOFFSETTO:+0000
TZNAME:GMT
END:STANDARD
BEGIN:DAYLIGHT
DTSTART:20180325T010000
TZOFFSETFROM:+0000
TZOFFSETTO:+0100
TZNAME:IST
END:DAYLIGHT
END:VTIMEZONE
BEGIN:VEVENT
UID:ai1ec-5544@laoispartnership.ie
DTSTAMP:20171031T082749Z
CATEGORIES;LANGUAGE=en-US:Walks
CONTACT:
DESCRIPTION:Rock of Dunamase/ Dysart Wood\, Portlaoise Take in the wonderfu
 l views from the Rock of Dunamase and stroll along the woodland paths of D
 ysart Wood. Meet: Dysart Wood carpark\, Grid Ref: S532976 2.30p
DTSTART;TZID=Europe/Dublin:20170708T143000
DTEND;TZID=Europe/Dublin:20170708T173000
LOCATION:Rock of Dunamase/ Dysart Wood\, Portlaoise
SEQUENCE:0
SUMMARY:Rock of Dunamase/ Dysart Wood\, Portlaoise  meet at Wood  2.30p
URL:http://laoispartnership.ie/event/rock-of-dunamase-dysart-wood-portlaois
 e-meet-at-wood-2-30p/
X-ALT-DESC;FMTTYPE=text/html:<!DOCTYPE HTML PUBLIC '-//W3C//DTD HTML 3.2//E
 N'>\\n<HTML>\\n<HEAD>\\n<TITLE></TITLE>\\n</HEAD>\\n<BODY><p>Rock of Dunam
 ase/ Dysart Wood\, Portlaoise Take in the wonderful views from the Rock of
  Dunamase and stroll along the woodland paths of Dysart Wood. Meet: Dysart
  Wood carpark\, Grid Ref: S532976 2.30p</p>\n</BODY></HTML>
X-COST:€2 per walk or 25  for festival ticket
END:VEVENT
END:VCALENDAR
