BEGIN:VCALENDAR
VERSION:2.0
PRODID:-//78.153.215.244//NONSGML kigkonsult.se iCalcreator 2.20//
CALSCALE:GREGORIAN
METHOD:PUBLISH
X-WR-CALNAME:Laois Partnership
X-WR-CALDESC:Serving Communities Across Laois
X-FROM-URL:http://laoispartnership.ie
X-WR-TIMEZONE:Europe/Dublin
BEGIN:VTIMEZONE
TZID:Europe/Dublin
X-LIC-LOCATION:Europe/Dublin
BEGIN:STANDARD
DTSTART:20171029T020000
TZOFFSETFROM:+0100
TZOFFSETTO:+0000
TZNAME:GMT
END:STANDARD
BEGIN:DAYLIGHT
DTSTART:20180325T010000
TZOFFSETFROM:+0000
TZOFFSETTO:+0100
TZNAME:IST
END:DAYLIGHT
END:VTIMEZONE
BEGIN:VEVENT
UID:ai1ec-5545@laoispartnership.ie
DTSTAMP:20171031T082857Z
CATEGORIES;LANGUAGE=en-US:Walks
CONTACT:Susan lawlor\; 0872574477
DESCRIPTION:<p>Portarlington The Derryounce walk is a community owned walk 
 around the picturesque Derryounce Lakes. Meet: The Hawthorn Inn carpark\, 
 Grid Ref: N534124 2.30pm</p>
DTSTART;TZID=Europe/Dublin:20170709T143000
DTEND;TZID=Europe/Dublin:20170709T173000
GEO:+53.182601;-7.201788
LOCATION:Portarlington  @ Derryounce\, Co. Offaly\, Ireland
SEQUENCE:0
SUMMARY:Sun\, 9 July Portarlington The Derryounce walk Grade A • 12 km • 3 
 hours
URL:http://laoispartnership.ie/event/sun-9-july-grade-a-%e2%80%a2-12-km-%e2
 %80%a2-3-hours/
X-COST:€2 per walk or €25 for festival ticket
END:VEVENT
END:VCALENDAR
