BEGIN:VCALENDAR
VERSION:2.0
PRODID:-//78.153.215.244//NONSGML kigkonsult.se iCalcreator 2.20//
CALSCALE:GREGORIAN
METHOD:PUBLISH
X-WR-CALNAME:Laois Partnership
X-WR-CALDESC:Serving Communities Across Laois
X-FROM-URL:http://laoispartnership.ie
X-WR-TIMEZONE:Europe/Dublin
BEGIN:VTIMEZONE
TZID:Europe/Dublin
X-LIC-LOCATION:Europe/Dublin
BEGIN:STANDARD
DTSTART:20171029T020000
TZOFFSETFROM:+0100
TZOFFSETTO:+0000
TZNAME:GMT
END:STANDARD
BEGIN:DAYLIGHT
DTSTART:20180325T010000
TZOFFSETFROM:+0000
TZOFFSETTO:+0100
TZNAME:IST
END:DAYLIGHT
END:VTIMEZONE
BEGIN:VEVENT
UID:ai1ec-5552@laoispartnership.ie
DTSTAMP:20171031T082935Z
CATEGORIES;LANGUAGE=en-US:Walks
CONTACT:Susan Lawlor \; 0872574477
DESCRIPTION:Spink A challenging walk traversing the hills of the 16th Centu
 ry Cooper Estate with spectacular views of Laois\, Carlow\, Waterford\, Ki
 ldare & Tipperary. Meet: Knock Church\, Spink\, Grid Ref: S516 836 7.30pm
DTSTART;TZID=Europe/Dublin:20170711T193000
DTEND;TZID=Europe/Dublin:20170711T220000
GEO:+52.91528;-7.347892
LOCATION:Spink Abbeyleix  @ Abbeyleix\, Knocknamoe\, Abbeyleix\, Co. Laois\
 , Ireland
SEQUENCE:0
SUMMARY:Tue\, 11 July Spink Grade A Walk 10K 2.5 Hours
URL:http://laoispartnership.ie/event/tue-11-july-spink-grade-a-walk-10k-2-5
 -hours/
X-ALT-DESC;FMTTYPE=text/html:<!DOCTYPE HTML PUBLIC '-//W3C//DTD HTML 3.2//E
 N'>\\n<HTML>\\n<HEAD>\\n<TITLE></TITLE>\\n</HEAD>\\n<BODY><p>Spink A chall
 enging walk traversing the hills of the 16th Century Cooper Estate with sp
 ectacular views of Laois\, Carlow\, Waterford\, Kildare & Tipperary. Meet:
  Knock Church\, Spink\, Grid Ref: S516 836 7.30pm</p>\n</BODY></HTML>
X-COST:€2 per Walk or€ for festival ticket
END:VEVENT
END:VCALENDAR
