BEGIN:VCALENDAR
VERSION:2.0
PRODID:-//78.153.215.244//NONSGML kigkonsult.se iCalcreator 2.20//
CALSCALE:GREGORIAN
METHOD:PUBLISH
X-WR-CALNAME:Laois Partnership
X-WR-CALDESC:Serving Communities Across Laois
X-FROM-URL:http://laoispartnership.ie
X-WR-TIMEZONE:Europe/Dublin
BEGIN:VTIMEZONE
TZID:Europe/Dublin
X-LIC-LOCATION:Europe/Dublin
BEGIN:STANDARD
DTSTART:20171029T020000
TZOFFSETFROM:+0100
TZOFFSETTO:+0000
TZNAME:GMT
END:STANDARD
BEGIN:DAYLIGHT
DTSTART:20180325T010000
TZOFFSETFROM:+0000
TZOFFSETTO:+0100
TZNAME:IST
END:DAYLIGHT
END:VTIMEZONE
BEGIN:VEVENT
UID:ai1ec-5554@laoispartnership.ie
DTSTAMP:20171031T083006Z
CATEGORIES;LANGUAGE=en-US:Walks
CONTACT:Susan Lawlor\; 0872574477
DESCRIPTION:<p>Luggacurren This walk includes quiet winding country roads w
 ith great countryside views. Meet: Community Centre\, Grid Ref: S586888 7:
 30pm</p>
DTSTART;TZID=Europe/Dublin:20170712T193000
DTEND;TZID=Europe/Dublin:20170712T220000
LOCATION:Luggacurren @ Luggacurren Community Centre
SEQUENCE:0
SUMMARY:Wed\, 12 July  Luggacurran10K Grade  B   Walk
URL:http://laoispartnership.ie/event/wed-12-july-luggacurran10k-grade-b-wal
 k/
X-COST:€2 per Walk or€ for festival ticket
END:VEVENT
END:VCALENDAR
