BEGIN:VCALENDAR
VERSION:2.0
PRODID:-//78.153.215.244//NONSGML kigkonsult.se iCalcreator 2.20//
CALSCALE:GREGORIAN
METHOD:PUBLISH
X-WR-CALNAME:Laois Partnership
X-WR-CALDESC:Serving Communities Across Laois
X-FROM-URL:http://laoispartnership.ie
X-WR-TIMEZONE:Europe/Dublin
BEGIN:VTIMEZONE
TZID:Europe/Dublin
X-LIC-LOCATION:Europe/Dublin
BEGIN:STANDARD
DTSTART:20171029T020000
TZOFFSETFROM:+0100
TZOFFSETTO:+0000
TZNAME:GMT
END:STANDARD
BEGIN:DAYLIGHT
DTSTART:20180325T010000
TZOFFSETFROM:+0000
TZOFFSETTO:+0100
TZNAME:IST
END:DAYLIGHT
END:VTIMEZONE
BEGIN:VEVENT
UID:ai1ec-5555@laoispartnership.ie
DTSTAMP:20171031T083118Z
CATEGORIES:
CONTACT:Susan Lawlor \; 0872574477
DESCRIPTION:Grantstown Quiet roads\, laneways\, Grantstown lake and country
 side views Meet: Gates of the lake\, Grid Ref: S338795 7:30pm
DTSTART;TZID=Europe/Dublin:20170713T193000
DTEND;TZID=Europe/Dublin:20170713T220000
GEO:+52.882677;-7.446524
LOCATION:Grantstown Lake  @ Ballacolla\, Co. Laois\, Ireland
SEQUENCE:0
SUMMARY:Thu 13th July Grade B Walk Grantstown Ballacolla  7KM 2.5 Hours
URL:http://laoispartnership.ie/event/thu-13th-july-grade-b-walk-grantstown-
 ballacolla-7km-2-5-hours/
X-ALT-DESC;FMTTYPE=text/html:<!DOCTYPE HTML PUBLIC '-//W3C//DTD HTML 3.2//E
 N'>\\n<HTML>\\n<HEAD>\\n<TITLE></TITLE>\\n</HEAD>\\n<BODY><p>Grantstown Qu
 iet roads\, laneways\, Grantstown lake and countryside views Meet: Gates o
 f the lake\, Grid Ref: S338795 7:30pm</p>\n</BODY></HTML>
X-COST:€2 per Walk or€ for festival ticket
END:VEVENT
END:VCALENDAR
