BEGIN:VCALENDAR
VERSION:2.0
PRODID:-//78.153.215.244//NONSGML kigkonsult.se iCalcreator 2.20//
CALSCALE:GREGORIAN
METHOD:PUBLISH
X-WR-CALNAME:Laois Partnership
X-WR-CALDESC:Serving Communities Across Laois
X-FROM-URL:http://laoispartnership.ie
X-WR-TIMEZONE:Europe/Dublin
BEGIN:VTIMEZONE
TZID:Europe/Dublin
X-LIC-LOCATION:Europe/Dublin
BEGIN:STANDARD
DTSTART:20171029T020000
TZOFFSETFROM:+0100
TZOFFSETTO:+0000
TZNAME:GMT
END:STANDARD
BEGIN:DAYLIGHT
DTSTART:20180325T010000
TZOFFSETFROM:+0000
TZOFFSETTO:+0100
TZNAME:IST
END:DAYLIGHT
END:VTIMEZONE
BEGIN:VEVENT
UID:ai1ec-5556@laoispartnership.ie
DTSTAMP:20171031T083158Z
CATEGORIES;LANGUAGE=en-US:Walks
CONTACT:Susan Lawlor\; 0872574477
DESCRIPTION:Portarlington Family Walk Slí Walk\, lovely gentle walk travers
 ing the town of Portarlington.  Family walk suitable for buggies and wheel
 chairs. Meet: Community Centre carpark\, Grid Ref: S545123 7.30pm
DTSTART;TZID=Europe/Dublin:20170714T131500
DTEND;TZID=Europe/Dublin:20170714T141500
GEO:-38.118157;+144.653044
LOCATION:Portarlington @ 28 Brown St\, Portarlington VIC 3223\, Australia
SEQUENCE:0
SUMMARY:Fri\, 14 July Portarlington  Grade C •  5 km • 1½ hours
URL:http://laoispartnership.ie/event/fri-14-july-portarlington-grade-c-%e2%
 80%a2-5-km-%e2%80%a2-1%c2%bd-hours/
X-ALT-DESC;FMTTYPE=text/html:<!DOCTYPE HTML PUBLIC '-//W3C//DTD HTML 3.2//E
 N'>\\n<HTML>\\n<HEAD>\\n<TITLE></TITLE>\\n</HEAD>\\n<BODY><p>Portarlington
  Family Walk Slí Walk\, lovely gentle walk traversing the town of Portarli
 ngton.  Family walk suitable for buggies and wheelchairs. Meet: Community 
 Centre carpark\, Grid Ref: S545123 7.30pm</p>\n</BODY></HTML>
X-COST:€2 per Walk or€ for festival ticket
END:VEVENT
END:VCALENDAR
