BEGIN:VCALENDAR
VERSION:2.0
PRODID:-//78.153.215.244//NONSGML kigkonsult.se iCalcreator 2.20//
CALSCALE:GREGORIAN
METHOD:PUBLISH
X-WR-CALNAME:Laois Partnership
X-WR-CALDESC:Serving Communities Across Laois
X-FROM-URL:http://laoispartnership.ie
X-WR-TIMEZONE:Europe/Dublin
BEGIN:VTIMEZONE
TZID:Europe/Dublin
X-LIC-LOCATION:Europe/Dublin
BEGIN:STANDARD
DTSTART:20171029T020000
TZOFFSETFROM:+0100
TZOFFSETTO:+0000
TZNAME:GMT
END:STANDARD
BEGIN:DAYLIGHT
DTSTART:20180325T010000
TZOFFSETFROM:+0000
TZOFFSETTO:+0100
TZNAME:IST
END:DAYLIGHT
END:VTIMEZONE
BEGIN:VEVENT
UID:ai1ec-5557@laoispartnership.ie
DTSTAMP:20171031T083244Z
CATEGORIES;LANGUAGE=en-US:Walks
CONTACT:Susan Lawlor\; 0872574477
DESCRIPTION:Rossmore\, Killeshin This walk is a must for the wonderful view
 s of the Barrow Valley\, Dublin and Wicklow Mountains. Meet: Oisin Park\, 
 Grid Ref: S349950 2.30pm
DTSTART;TZID=Europe/Dublin:20170714T143000
DTEND;TZID=Europe/Dublin:20170714T170000
GEO:+52.821037;-7.017954
LOCATION:Rossmore\, Killeshin @ Rossmore\, Bilboa Cross\, Co. Laois\, Irela
 nd
SEQUENCE:0
SUMMARY:Sat\, 15 July Rosmore Killeshin Grade B 10K 2.5 Hours
URL:http://laoispartnership.ie/event/sat-15-july-rosmore-killeshin-grade-b-
 10k-2-5-hours/
X-ALT-DESC;FMTTYPE=text/html:<!DOCTYPE HTML PUBLIC '-//W3C//DTD HTML 3.2//E
 N'>\\n<HTML>\\n<HEAD>\\n<TITLE></TITLE>\\n</HEAD>\\n<BODY><p>Rossmore\, Ki
 lleshin This walk is a must for the wonderful views of the Barrow Valley\,
  Dublin and Wicklow Mountains. Meet: Oisin Park\, Grid Ref: S349950 2.30pm
 </p>\n</BODY></HTML>
X-COST:€2 per Walk or€ for festival ticket
END:VEVENT
END:VCALENDAR
