BEGIN:VCALENDAR
VERSION:2.0
PRODID:-//78.153.215.244//NONSGML kigkonsult.se iCalcreator 2.20//
CALSCALE:GREGORIAN
METHOD:PUBLISH
X-WR-CALNAME:Laois Partnership
X-WR-CALDESC:Serving Communities Across Laois
X-FROM-URL:http://laoispartnership.ie
X-WR-TIMEZONE:Europe/Dublin
BEGIN:VTIMEZONE
TZID:Europe/Dublin
X-LIC-LOCATION:Europe/Dublin
BEGIN:STANDARD
DTSTART:20171029T020000
TZOFFSETFROM:+0100
TZOFFSETTO:+0000
TZNAME:GMT
END:STANDARD
BEGIN:DAYLIGHT
DTSTART:20180325T010000
TZOFFSETFROM:+0000
TZOFFSETTO:+0100
TZNAME:IST
END:DAYLIGHT
END:VTIMEZONE
BEGIN:VEVENT
UID:ai1ec-5558@laoispartnership.ie
DTSTAMP:20171031T083320Z
CATEGORIES:
CONTACT:Susan Lawlor\; 0872574477
DESCRIPTION:Gattabawn Stroll along the Gattabawn loop which uses old farm l
 anes\, open countryside and forest paths. Meet: Mackey’s Pub\, Gattabawn\,
  Grid Ref: S356685 2.30pm
DTSTART;TZID=Europe/Dublin:20170716T143000
DTEND;TZID=Europe/Dublin:20170716T180000
LOCATION:Gattabawn @ Gattabawn Cullahill Co Laois
SEQUENCE:0
SUMMARY:Sun\, 16th  July  Gattabawn Grade A Walk 12KM  3-4 Hours
URL:http://laoispartnership.ie/event/sun-16th-july-gattabawn-grade-a-walk-1
 2km-3-4-hours/
X-ALT-DESC;FMTTYPE=text/html:<!DOCTYPE HTML PUBLIC '-//W3C//DTD HTML 3.2//E
 N'>\\n<HTML>\\n<HEAD>\\n<TITLE></TITLE>\\n</HEAD>\\n<BODY><p>Gattabawn Str
 oll along the Gattabawn loop which uses old farm lanes\, open countryside 
 and forest paths. Meet: Mackey’s Pub\, Gattabawn\, Grid Ref: S356685 2.30p
 m</p>\n</BODY></HTML>
X-COST:€2 per Walk or€ for festival ticket
END:VEVENT
END:VCALENDAR
