BEGIN:VCALENDAR
VERSION:2.0
PRODID:-//78.153.215.244//NONSGML kigkonsult.se iCalcreator 2.20//
CALSCALE:GREGORIAN
METHOD:PUBLISH
X-WR-CALNAME:Laois Partnership
X-WR-CALDESC:Serving Communities Across Laois
X-FROM-URL:http://laoispartnership.ie
X-WR-TIMEZONE:Europe/Dublin
BEGIN:VTIMEZONE
TZID:Europe/Dublin
X-LIC-LOCATION:Europe/Dublin
BEGIN:STANDARD
DTSTART:20171029T020000
TZOFFSETFROM:+0100
TZOFFSETTO:+0000
TZNAME:GMT
END:STANDARD
BEGIN:DAYLIGHT
DTSTART:20180325T010000
TZOFFSETFROM:+0000
TZOFFSETTO:+0100
TZNAME:IST
END:DAYLIGHT
END:VTIMEZONE
BEGIN:VEVENT
UID:ai1ec-5561@laoispartnership.ie
DTSTAMP:20171031T083356Z
CATEGORIES;LANGUAGE=en-US:Walks
CONTACT:Susan Lawlor  Festival Co-Ordinator\; 0872574477
DESCRIPTION:Grand Canal\, Fisherstown Walk along the Grand Canal down the B
 arrow valley passing moored boats and grain stores to the village of Vicar
 stown. Meet: The Fisherstown Inn\,7.30PM  Grid Ref: S467890
DTSTART;TZID=Europe/Dublin:20170718T173000
DTEND;TZID=Europe/Dublin:20170718T200000
GEO:+53.04359;-7.41502
LOCATION:Fisherstown  @ Fisherstown\, Co. Laois\, Ireland
SEQUENCE:0
SUMMARY:Tue\, 18th July  Grand Canal Fisherstown   Grade A • 10 km • 2½ hou
 rs
URL:http://laoispartnership.ie/event/tue-18th-july-grand-canal-fisherstown-
 grade-a-%e2%80%a2-10-km-%e2%80%a2-2%c2%bd-hours/
X-ALT-DESC;FMTTYPE=text/html:<!DOCTYPE HTML PUBLIC '-//W3C//DTD HTML 3.2//E
 N'>\\n<HTML>\\n<HEAD>\\n<TITLE></TITLE>\\n</HEAD>\\n<BODY><p>Grand Canal\,
  Fisherstown Walk along the Grand Canal down the Barrow valley passing moo
 red boats and grain stores to the village of Vicarstown. Meet: The Fishers
 town Inn\,7.30PM  Grid Ref: S467890</p>\n</BODY></HTML>
X-COST:€2 per Walk or 25 for the Festival ticket
END:VEVENT
END:VCALENDAR
