BEGIN:VCALENDAR
VERSION:2.0
PRODID:-//78.153.215.244//NONSGML kigkonsult.se iCalcreator 2.20//
CALSCALE:GREGORIAN
METHOD:PUBLISH
X-WR-CALNAME:Laois Partnership
X-WR-CALDESC:Serving Communities Across Laois
X-FROM-URL:http://laoispartnership.ie
X-WR-TIMEZONE:Europe/Dublin
BEGIN:VTIMEZONE
TZID:Europe/Dublin
X-LIC-LOCATION:Europe/Dublin
BEGIN:STANDARD
DTSTART:20171029T020000
TZOFFSETFROM:+0100
TZOFFSETTO:+0000
TZNAME:GMT
END:STANDARD
BEGIN:DAYLIGHT
DTSTART:20180325T010000
TZOFFSETFROM:+0000
TZOFFSETTO:+0100
TZNAME:IST
END:DAYLIGHT
END:VTIMEZONE
BEGIN:VEVENT
UID:ai1ec-5562@laoispartnership.ie
DTSTAMP:20171031T083434Z
CATEGORIES;LANGUAGE=en-US:Walks
CONTACT:Susan Lawlor Festival C-Ordinator\; 0872574477
DESCRIPTION:Errill This is a  lovely walk not to be missed through country 
 lanes taking in Moonamondra Bog with panoramic views of the Devil’s Bit. M
 eet: The Green\, Grid Ref: S218788 7.30pm
DTSTART;TZID=Europe/Dublin:20170719T193000
DTEND;TZID=Europe/Dublin:20170719T220000
GEO:+52.994295;-7.332301
LOCATION:Errill  @ Laois\, Co. Laois\, Ireland
SEQUENCE:0
SUMMARY:Wed\, 19th  July Errill Grade B Walk 8K 2.5 Hours
URL:http://laoispartnership.ie/event/wed-19th-july-errill-grade-b-walk-8k-2
 -5-hours/
X-ALT-DESC;FMTTYPE=text/html:<!DOCTYPE HTML PUBLIC '-//W3C//DTD HTML 3.2//E
 N'>\\n<HTML>\\n<HEAD>\\n<TITLE></TITLE>\\n</HEAD>\\n<BODY><p style='text-a
 lign: left\;'>Errill This is a  lovely walk not to be missed through count
 ry lanes taking in Moonamondra Bog with panoramic views of the Devil’s Bit
 . Meet: The Green\, Grid Ref: S218788 7.30pm</p>\n</BODY></HTML>
X-COST:€2 per Walk €25 for the Festival Ticket
END:VEVENT
END:VCALENDAR
